BEGIN:VCALENDAR
VERSION:2.0
PRODID:-//北加州台灣同鄉聯合會 - ECPv6.15.20//NONSGML v1.0//EN
CALSCALE:GREGORIAN
METHOD:PUBLISH
X-WR-CALNAME:北加州台灣同鄉聯合會
X-ORIGINAL-URL:http://tafnc.org
X-WR-CALDESC:Events for 北加州台灣同鄉聯合會
REFRESH-INTERVAL;VALUE=DURATION:PT1H
X-Robots-Tag:noindex
X-PUBLISHED-TTL:PT1H
BEGIN:VTIMEZONE
TZID:America/Los_Angeles
BEGIN:DAYLIGHT
TZOFFSETFROM:-0800
TZOFFSETTO:-0700
TZNAME:PDT
DTSTART:20240310T100000
END:DAYLIGHT
BEGIN:STANDARD
TZOFFSETFROM:-0700
TZOFFSETTO:-0800
TZNAME:PST
DTSTART:20241103T090000
END:STANDARD
BEGIN:DAYLIGHT
TZOFFSETFROM:-0800
TZOFFSETTO:-0700
TZNAME:PDT
DTSTART:20250309T100000
END:DAYLIGHT
BEGIN:STANDARD
TZOFFSETFROM:-0700
TZOFFSETTO:-0800
TZNAME:PST
DTSTART:20251102T090000
END:STANDARD
BEGIN:DAYLIGHT
TZOFFSETFROM:-0800
TZOFFSETTO:-0700
TZNAME:PDT
DTSTART:20260308T100000
END:DAYLIGHT
BEGIN:STANDARD
TZOFFSETFROM:-0700
TZOFFSETTO:-0800
TZNAME:PST
DTSTART:20261101T090000
END:STANDARD
END:VTIMEZONE
BEGIN:VEVENT
DTSTART;TZID=America/Los_Angeles:20250215T100000
DTEND;TZID=America/Los_Angeles:20250215T113000
DTSTAMP:20260421T050704
CREATED:20241220T052832Z
LAST-MODIFIED:20241220T052832Z
UID:1515-1739613600-1739619000@tafnc.org
SUMMARY:Virtual Book Club Discussion: Kim Liao's "Where Every Ghost Has a Name"
DESCRIPTION:Taipei Times | An American granddaughter’s quest to unravel her family’s murky history has resulted in an outstanding biography of Thomas Liao and the fight for Taiwanese independence \n  \nSaturday\, February 15\, 2025 – 10AM – 11:30AM | Webex \n“Where Every Ghost Has a Name” Intergenerational Book Club Discussion (English) \nJoin the Taiwanese American Federation of Northern California for an intergenerational virtual book club discussion on Kim Liao’s memoir\, “Where Every Ghost Has a Name: A Memoir of Taiwanese Independence.” The discussion will be primarily in English (Taiwanese or Mandarin comments welcome) and moderated by Leona Chen. Registration required for link to participate. \n10:00AM – Opening remarks & introduction \n10:05 – 11:00AM – Guided discussion \n11:00 – 11:30AM  – Open discussion/reflection \nWebex Link: https://tafnc.webex.com/tafnc/j.php?MTID=me53461d53930b8d37bef9c8cfe36a4b2 \nBook Club Discussion Questions –  \n\nBefore reading this book\, how would you describe the major aspirations of the Taiwanese independence movement? How does reading this book impact that answer\, if at all?\nWhat was your impression of Thomas Liao 廖文毅 prior to reading the book (if you had one)? How does Kim’s memoir complicate\, challenge\, or change that?\nSeveral prominent figures of the Taiwanese independence movement are mentioned in the book. Who do you recognize? What surprised you about how they are characterized? What questions would you ask them today\, if you could? \nThe memoir reveals the profound sacrifices each member of the Liao family made\, willingly and not. What choices or circumstances resonated with you? Why?\nWhich character did you find most intriguing? Why?\nHow would you describe the central tension of this book? Did it feel resolved by the end?\nFor Kim\, the seminal text that drew her to this era of Taiwanese political history was Formosa Betrayed. What was yours? How did it make you feel? What do you remember about that reading experience?\nHow does this memoir contribute to or expand Taiwanese American literature? What is the significance of discussing and reading this with a multigenerational Taiwanese American community?\n\nWriting/Reflection Prompts –  \n\nWho is a person in your life (family\, friend\, community member) you would like to learn more about? What stories have you heard about them? Write 5 questions you would ask them today\, if you could.\nIf you could learn more about a historical event from the perspective of someone in your life who lived through it\, who/what would it be? Why?\nMuch of this book grapples with the difficulty of writing about real people in a public way; some of the characters mentioned were reluctant to be written about; others are no longer here to give their explicit consent. If someone close to you were to write about you\, how would you feel? What would you want to know? What would you be proud to share? What would you be uncomfortable sharing?\n\n 
URL:http://tafnc.org/event/virtual-book-club-discussion-kim-liaos-where-every-ghost-has-a-name/
ATTACH;FMTTYPE=image/png:http://tafnc.org/wp-content/uploads/2024/12/TAFNC-Zeffy-Banners-3.png
ORGANIZER;CN="Taiwanese American Federation of Northern California":MAILTO:tafnc.org@gmail.com
END:VEVENT
END:VCALENDAR